BEGIN:VCALENDAR
VERSION:2.0
PRODID:-//eventon.com NONSGML v1.0//EN
CALSCALE:GREGORIAN
METHOD:PUBLISH
BEGIN:VEVENT
UID:69e4f5cf9b65a
DTSTAMP:20260419T153335Z
DTSTART:20260418T220000Z
DTEND:20260419T035900Z
LOCATION:Drom Taberna 458 Queen St W\,  Toronto\,  ON M5V 2A8
SUMMARY:Boxer's Trio
DESCRIPTION:Formed by three musicians of different musical backgrounds\,  t
 his electrifying jazz fusion trio is unlike any other - well probably. They
  will be performing a variety of improvised music inspired by jazz\,  funk\
 ,  and rock groups.\nhttps://jazzintoronto.ca/events/boxers-trio/
URL:https://jazzintoronto.ca/events/boxers-trio/
END:VEVENT
END:VCALENDAR