BEGIN:VCALENDAR
VERSION:2.0
PRODID:-//eventon.com NONSGML v1.0//EN
CALSCALE:GREGORIAN
METHOD:PUBLISH
BEGIN:VEVENT
UID:69e4cbfbc30c6
DTSTAMP:20260419T123507Z
DTSTART:20260405T150000Z
DTEND:20260405T183000Z
LOCATION:Free Times Cafe 320 College St\,  Toronto\,  ON M5T 1S3
SUMMARY:Buffet Brunch "Bella! Did Ya Eat?" with Muzikaklez Duo - Isaac Muzikansky & Arkady Balanovsky
DESCRIPTION:Accompanying Free Times Cafe's legendary "Bella! Did Ya Eat?" 
 Sunday Brunch Buffet w/ MuzikaKlez Duo - Isaac Muzikansky &amp; Arkady Bal
 anovsky &nbsp; Isaac Muzikansky’s short musical bio Since coming to Canad
 a (Ottawa) from the former Soviet Union in 1980\,  Isaac worked for the nex
 t 33 years in Ottawa Hi-Tech companies as an[..]\nhttps://jazzintoronto.ca/
 events/buffet-brunch-bella-did-ya-eat-with-muzikaklez-duo-isaac-muzikansky-
 arkady-balanovsky/
URL:https://jazzintoronto.ca/events/buffet-brunch-bella-did-ya-eat-with-muzikaklez-duo-isaac-muzikansky-arkady-balanovsky/
END:VEVENT
END:VCALENDAR