BEGIN:VCALENDAR
VERSION:2.0
PRODID:-//eventon.com NONSGML v1.0//EN
CALSCALE:GREGORIAN
METHOD:PUBLISH
BEGIN:VEVENT
UID:69e4e2823b466
DTSTAMP:20260419T141114Z
DTSTART:20260404T170000Z
DTEND:20260404T200000Z
LOCATION:Free Times Cafe 320 College St\,  Toronto\,  ON M5T 1S3
SUMMARY:Dr. B's Acoustic Medicine Show
DESCRIPTION:Join us for an intimate afternoon\,  the legendary Dr. B's Acou
 stic Medicine Show - Musicians' Open Mic. Sign Up starts at 12:30pm. Come
  play your best material for an audience of your musical peers!\nhttps://ja
 zzintoronto.ca/events/dr-bs-acoustic-medicine-show/
URL:https://jazzintoronto.ca/events/dr-bs-acoustic-medicine-show/
END:VEVENT
END:VCALENDAR