BEGIN:VCALENDAR
VERSION:2.0
PRODID:-//eventon.com NONSGML v1.0//EN
CALSCALE:GREGORIAN
METHOD:PUBLISH
BEGIN:VEVENT
UID:69e4e815b1278
DTSTAMP:20260419T143501Z
DTSTART:20260412T003000Z
DTEND:20260412T030000Z
LOCATION:Jazz Bistro 251 Victoria St\,  Toronto\,  ON M5B 1T8
SUMMARY:Turboprop
DESCRIPTION:James Griffith – alto saxophone Joel Bracken – tenor saxoph
 one Christian Overton – trombone Adrean Farrugia – piano Michael Herrin
 g – bass Ernesto Cervini – drums\nhttps://jazzintoronto.ca/events/turbo
 prop-2/
URL:https://jazzintoronto.ca/events/turboprop-2/
END:VEVENT
END:VCALENDAR