BEGIN:VCALENDAR
VERSION:2.0
PRODID:-//eventon.com NONSGML v1.0//EN
CALSCALE:GREGORIAN
METHOD:PUBLISH
BEGIN:VEVENT
UID:69e4e893448d0
DTSTAMP:20260419T143707Z
DTSTART:20260411T003000Z
DTEND:20260411T030000Z
LOCATION:Jazz Bistro 251 Victoria St\,  Toronto\,  ON M5B 1T8
SUMMARY:Turboprop
DESCRIPTION:James Griffith – alto saxophone Joel Bracken – tenor saxoph
 one Christian Overton – trombone Adrean Farrugia – piano Michael Herrin
 g – bass Ernesto Cervini – drums\nhttps://jazzintoronto.ca/events/turbo
 prop/
URL:https://jazzintoronto.ca/events/turboprop/
END:VEVENT
END:VCALENDAR