BEGIN:VCALENDAR
VERSION:2.0
PRODID:-//eventon.com NONSGML v1.0//EN
CALSCALE:GREGORIAN
METHOD:PUBLISH
BEGIN:VEVENT
UID:69e4e8ed0afb6
DTSTAMP:20260419T143837Z
DTSTART:20260410T003000Z
DTEND:20260410T030000Z
LOCATION:Jazz Bistro 251 Victoria St\,  Toronto\,  ON M5B 1T8
SUMMARY:Grooveyard (Dance Floor Open!)
DESCRIPTION:Lester McLean – vocals\,  saxophone Michael Occhipinti – gu
 itar\,  vocals Paul Neufeld – keys Nikku Nayar – bass Paul Antonio – 
 drums\nhttps://jazzintoronto.ca/events/grooveyard-dance-floor-open/
URL:https://jazzintoronto.ca/events/grooveyard-dance-floor-open/
END:VEVENT
END:VCALENDAR