BEGIN:VCALENDAR
VERSION:2.0
PRODID:-//eventon.com NONSGML v1.0//EN
CALSCALE:GREGORIAN
METHOD:PUBLISH
BEGIN:VEVENT
UID:69e4e81c53e66
DTSTAMP:20260419T143508Z
DTSTART:20260409T210000Z
DTEND:20260409T230000Z
LOCATION:Jazz Bistro 251 Victoria St\,  Toronto\,  ON M5B 1T8
SUMMARY:JB Piano Bar: The Joel Bracken Duos
DESCRIPTION:Joel Bracken – tenor saxophone TBD – piano\nhttps://jazzint
 oronto.ca/events/jb-piano-bar-the-joel-bracken-duos-2/
URL:https://jazzintoronto.ca/events/jb-piano-bar-the-joel-bracken-duos-2/
END:VEVENT
END:VCALENDAR