BEGIN:VCALENDAR
VERSION:2.0
PRODID:-//eventon.com NONSGML v1.0//EN
CALSCALE:GREGORIAN
METHOD:PUBLISH
BEGIN:VEVENT
UID:69e4e86ac9597
DTSTAMP:20260419T143626Z
DTSTART:20260409T003000Z
DTEND:20260409T030000Z
LOCATION:Jazz Bistro 251 Victoria St\,  Toronto\,  ON M5B 1T8
SUMMARY:From Berlin: The Lisa Bassenge Quartet Pay Tribute to Billie Holiday
DESCRIPTION:Lisa Bassenge â€“ vocals Carl Winther â€“ piano Andreas Lang â€
 “ bass Anders Mogensen â€“ drums\nhttps://jazzintoronto.ca/events/from-berl
 in-the-lisa-bassenge-quartet-pay-tribute-to-billie-holiday/
URL:https://jazzintoronto.ca/events/from-berlin-the-lisa-bassenge-quartet-pay-tribute-to-billie-holiday/
END:VEVENT
END:VCALENDAR