BEGIN:VCALENDAR
VERSION:2.0
PRODID:-//eventon.com NONSGML v1.0//EN
CALSCALE:GREGORIAN
METHOD:PUBLISH
BEGIN:VEVENT
UID:69e4e86b63d96
DTSTAMP:20260419T143627Z
DTSTART:20260408T210000Z
DTEND:20260408T230000Z
LOCATION:Jazz Bistro 251 Victoria St\,  Toronto\,  ON M5B 1T8
SUMMARY:JB Piano Bar: Ewen Farncombe
DESCRIPTION:Ewen Farncombe – solo piano COVER: $PWYC\nhttps://jazzintoron
 to.ca/events/jb-piano-bar-ewen-farncombe-2/
URL:https://jazzintoronto.ca/events/jb-piano-bar-ewen-farncombe-2/
END:VEVENT
END:VCALENDAR