BEGIN:VCALENDAR
VERSION:2.0
PRODID:-//eventon.com NONSGML v1.0//EN
CALSCALE:GREGORIAN
METHOD:PUBLISH
BEGIN:VEVENT
UID:69e4e86ac4e11
DTSTAMP:20260419T143626Z
DTSTART:20260408T003000Z
DTEND:20260408T030000Z
LOCATION:Jazz Bistro 251 Victoria St\,  Toronto\,  ON M5B 1T8
SUMMARY:Dr. Purgatory
DESCRIPTION:Colleen Allen – saxophones Matt Woroshyl – saxophones David
  Riddel – guitar Noam Lemish – piano Dan Fortin – bass Stefan Hegerat
  – drums COVER: $20\nhttps://jazzintoronto.ca/events/dr-purgatory/
URL:https://jazzintoronto.ca/events/dr-purgatory/
END:VEVENT
END:VCALENDAR