BEGIN:VCALENDAR
VERSION:2.0
PRODID:-//eventon.com NONSGML v1.0//EN
CALSCALE:GREGORIAN
METHOD:PUBLISH
BEGIN:VEVENT
UID:69e4e90d3385f
DTSTAMP:20260419T143909Z
DTSTART:20260405T003000Z
DTEND:20260405T030000Z
LOCATION:Jazz Bistro 251 Victoria St\,  Toronto\,  ON M5B 1T8
SUMMARY:Donnybrook + 1
DESCRIPTION:TBD – saxophone Ben Bishop – guitar Jeff McLeod – Hammond
  Organ Morgan Childs – drums\nhttps://jazzintoronto.ca/events/donnybrook-
 1-2/
URL:https://jazzintoronto.ca/events/donnybrook-1-2/
END:VEVENT
END:VCALENDAR