BEGIN:VCALENDAR
VERSION:2.0
PRODID:-//eventon.com NONSGML v1.0//EN
CALSCALE:GREGORIAN
METHOD:PUBLISH
BEGIN:VEVENT
UID:69e4ff8b22745
DTSTAMP:20260419T161507Z
DTSTART:20260414T003000Z
DTEND:20260414T035900Z
LOCATION:Dina's Tavern 486 Spadina Ave.\,  Toronto\,  ON M5S 2H
SUMMARY:Jazz Rat Mondays With Patrick Smith & Co
DESCRIPTION:DOORS AT 7PM\,  TUNES AT 830PM\,  $10 MARTINIS ALL NIGHT LONG\n
 https://jazzintoronto.ca/events/jazz-rat-mondays-with-patrick-smith-co-2/
URL:https://jazzintoronto.ca/events/jazz-rat-mondays-with-patrick-smith-co-2/
END:VEVENT
END:VCALENDAR