BEGIN:VCALENDAR
VERSION:2.0
PRODID:-//eventon.com NONSGML v1.0//EN
CALSCALE:GREGORIAN
METHOD:PUBLISH
BEGIN:VEVENT
UID:69e4cb2a500ba
DTSTAMP:20260419T123138Z
DTSTART:20260514T010000Z
DTEND:20260514T010000Z
LOCATION:Grossman's Tavern 377 Spadina Ave.\,  Toronto\,  ON M5T 2G3
SUMMARY:Action Sound Band
DESCRIPTION:Action Sound Band\nhttps://jazzintoronto.ca/events/action-sound
 -band-copy/var/ri-7.l-L1
URL:https://jazzintoronto.ca/events/action-sound-band-copy/var/ri-7.l-L1
END:VEVENT
END:VCALENDAR