BEGIN:VCALENDAR
VERSION:2.0
PRODID:-//eventon.com NONSGML v1.0//EN
CALSCALE:GREGORIAN
METHOD:PUBLISH
BEGIN:VEVENT
UID:69e4e30a54dcb
DTSTAMP:20260419T141330Z
DTSTART:20260326T010000Z
DTEND:20260325T050000Z
LOCATION:Grossman's Tavern 377 Spadina Ave.\,  Toronto\,  ON M5T 2G3
SUMMARY:Action Sound Band
DESCRIPTION:Action Sound Band\nhttps://jazzintoronto.ca/events/action-sound
 -band-copy/
URL:https://jazzintoronto.ca/events/action-sound-band-copy/
END:VEVENT
END:VCALENDAR