BEGIN:VCALENDAR
VERSION:2.0
PRODID:-//eventon.com NONSGML v1.0//EN
CALSCALE:GREGORIAN
METHOD:PUBLISH
BEGIN:VEVENT
UID:69e52f6817e6b
DTSTAMP:20260419T193920Z
DTSTART:20260429T020000Z
DTEND:20260429T035900Z
LOCATION:Dina's Tavern 486 Spadina Ave.\,  Toronto\,  ON M5S 2H
SUMMARY:Hot Hot Jazz Jam
DESCRIPTION:JAZZ JAM 10PM PWYC\nhttps://jazzintoronto.ca/events/hot-hot-jaz
 z-jam-2/var/ri-3.l-L1
URL:https://jazzintoronto.ca/events/hot-hot-jazz-jam-2/var/ri-3.l-L1
END:VEVENT
END:VCALENDAR