BEGIN:VCALENDAR
VERSION:2.0
PRODID:-//eventon.com NONSGML v1.0//EN
CALSCALE:GREGORIAN
METHOD:PUBLISH
BEGIN:VEVENT
UID:69e4c6b6354a3
DTSTAMP:20260419T121238Z
DTSTART:20260402T230000Z
DTEND:20260403T030000Z
LOCATION:The Redwood Theatre 1300 Gerrard St E\,  Toronto\,  ON M4L 1Y7
SUMMARY:The Hogtown Allstars - Bad Thursday
DESCRIPTION:Join The Hogtown Allstars for their 2nd annual Bad Thursday Con
 cert! The day before Good Friday\,  we celebrate the blues with this incred
 ible all star band.\nhttps://jazzintoronto.ca/events/the-hogtown-allstars-b
 ad-thursday/
URL:https://jazzintoronto.ca/events/the-hogtown-allstars-bad-thursday/
END:VEVENT
END:VCALENDAR