BEGIN:VCALENDAR
VERSION:2.0
PRODID:-//eventon.com NONSGML v1.0//EN
CALSCALE:GREGORIAN
METHOD:PUBLISH
BEGIN:VEVENT
UID:69e53cc26ec94
DTSTAMP:20260419T203618Z
DTSTART:20260516T230000Z
DTEND:20260517T030000Z
LOCATION:The Redwood Theatre 1300 Gerrard St E\,  Toronto\,  ON M4L 1Y7
SUMMARY:Soul Stew Concert & Dance Party
DESCRIPTION:Yes\,  Soul Stew live returns to the Redwood for this springtim
 e celebration of fantastic music\,  social gatherings\,  dancing\,  and gre
 at times. Join us for a fantastic night of dancing featuring the incredible
  band Soul Stew.\nhttps://jazzintoronto.ca/events/soul-stew-concert-dance-p
 arty/
URL:https://jazzintoronto.ca/events/soul-stew-concert-dance-party/
END:VEVENT
END:VCALENDAR