BEGIN:VCALENDAR
VERSION:2.0
PRODID:-//eventon.com NONSGML v1.0//EN
CALSCALE:GREGORIAN
METHOD:PUBLISH
BEGIN:VEVENT
UID:69e526d739b07
DTSTAMP:20260419T190247Z
DTSTART:20260404T013000Z
DTEND:20260403T040000Z
LOCATION:The Emmet Ray 924 College St\,  Toronto\,  ON M6H 1A4
SUMMARY:James Griffith Quartet
DESCRIPTION:Band members: James Griffith\,  (chord played TBD)\,  Julian An
 derson Bowes\,  Alex Scrignoli\nhttps://jazzintoronto.ca/events/james-griff
 ith-quartet/
URL:https://jazzintoronto.ca/events/james-griffith-quartet/
END:VEVENT
END:VCALENDAR