BEGIN:VCALENDAR
VERSION:2.0
PRODID:-//eventon.com NONSGML v1.0//EN
CALSCALE:GREGORIAN
METHOD:PUBLISH
BEGIN:VEVENT
UID:69e50ccd7d823
DTSTAMP:20260419T171141Z
DTSTART:20260516T221500Z
DTEND:20260517T023000Z
LOCATION:St. Barnabas on The Danforth Anglican Church 361 Danforth Ave\,  Toronto\,  ON M4K 1P1
SUMMARY:Karina Muhir Swing Band (Upper Hall)
DESCRIPTION:Saturday Night Swing PRICE Same prices online and at door. Less
 ons included. Prices are per person. HST included. $22 ($19.47 + $2.53 HST)
  $16 full-time students with ID ($14.16 + $1.84 HST)\nhttps://jazzintoronto
 .ca/events/karina-muhir-swing-band-upper-hall/
URL:https://jazzintoronto.ca/events/karina-muhir-swing-band-upper-hall/
END:VEVENT
END:VCALENDAR