BEGIN:VCALENDAR
VERSION:2.0
PRODID:-//eventon.com NONSGML v1.0//EN
CALSCALE:GREGORIAN
METHOD:PUBLISH
BEGIN:VEVENT
UID:69e4f6aee2e3d
DTSTAMP:20260419T153718Z
DTSTART:20260502T221500Z
DTEND:20260503T023000Z
LOCATION:St. Barnabas on The Danforth Anglican Church 361 Danforth Ave\,  Toronto\,  ON M4K 1P1
SUMMARY:The Ben Harvey Combo (Upper Hall)
DESCRIPTION:Saturday Night Swing We are delighted to have The Ben Harvey Co
 mbo back at Saturday Night Swing! Learn Lindy Hop\,  the classic joyful Swi
 ng Dance of the Swing Era\,  with a rich history\,  and an enthusiastic fol
 lowing all around the world today! Stay for the Dance Party! PRICE Same pri
 ces[..]\nhttps://jazzintoronto.ca/events/the-ben-harvey-combo-upper-hall/
URL:https://jazzintoronto.ca/events/the-ben-harvey-combo-upper-hall/
END:VEVENT
END:VCALENDAR