BEGIN:VCALENDAR
VERSION:2.0
PRODID:-//eventon.com NONSGML v1.0//EN
CALSCALE:GREGORIAN
METHOD:PUBLISH
BEGIN:VEVENT
UID:69e4de26da78d
DTSTAMP:20260419T135238Z
DTSTART:20260418T221500Z
DTEND:20260419T023000Z
LOCATION:St. Barnabas on The Danforth Anglican Church 361 Danforth Ave\,  Toronto\,  ON M4K 1P1
SUMMARY:Gabriel Kerekes and the All Angels Jazz Ban (Upper Hall)
DESCRIPTION:Saturday Night Swing After kicking off the Swing Toronto new ye
 ar for us\,  we are excited to have Gabriel and his band back again to play
  their fun and swingin’ tunes. PRICE Same prices online and at door. Less
 ons included. Prices are per person. HST included. $22 ($19.47 + $2.53[..]\
 nhttps://jazzintoronto.ca/events/gabriel-kerekes-and-the-all-angels-jazz-ba
 n-upper-hall/
URL:https://jazzintoronto.ca/events/gabriel-kerekes-and-the-all-angels-jazz-ban-upper-hall/
END:VEVENT
END:VCALENDAR