BEGIN:VCALENDAR
VERSION:2.0
PRODID:-//eventon.com NONSGML v1.0//EN
CALSCALE:GREGORIAN
METHOD:PUBLISH
BEGIN:VEVENT
UID:69e4c6f1613cc
DTSTAMP:20260419T121337Z
DTSTART:20260509T221500Z
DTEND:20260510T023000Z
LOCATION:Dovercourt House 805 Dovercourt Rd\,  Toronto\,  ON M6H 2X4
SUMMARY:Continenza Jazz (Top Floor)
DESCRIPTION:Saturday Night Swing PRICE Same prices online and at door. Less
 ons included. Prices are per person. HST included. $22 ($19.47 + $2.53 HST)
  $16 full-time students with ID ($14.16 + $1.84 HST)\nhttps://jazzintoronto
 .ca/events/continenza-jazz-top-floor/
URL:https://jazzintoronto.ca/events/continenza-jazz-top-floor/
END:VEVENT
END:VCALENDAR